BEGIN:VCALENDAR
VERSION:2.0
PRODID:-//wp-events-plugin.com//6.4.7.1//EN
BEGIN:VEVENT
UID:17@soleilvert.ch
DTSTART:20130216T093000Z
DTEND:20130216T110000Z
DTSTAMP:20130214T101952Z
URL:https://soleilvert.ch/events/toutes-et-tous-16-fevrier-2013-10h30-plac
 e-de-la-gare-a-neuchatel-soutien-au-grevistes-licencie%c2%b7e%c2%b7s-de-la
 -providence
SUMMARY:Toutes et tous: 16 février 2013\, 10h30\, Place de la Gare à Neuc
 hâtel: soutien au grévistes licencié·e·s de la Providence - Gare - 16
  Fév 13 10:30
DESCRIPTION:Après le licenciement de 22 grévistes\, le 4 février dernier
 \, par la direction de l’hôpital de la Providence\,  le ssp et syna la
 ncent un nouvel appel à la mobilisation. Les négociations n’aboutissen
 t pas et notre soutien est de plus en plus nécessaire.\nToutes et tous sa
 medi 16 février 2013\, rendez-vous sur la Place de la Gare de Neuchâtel 
 à 10h30.\n\n-  Nous irons à Neuchâtel exiger l’annulation des licenc
 iements anti-syndicaux des 22 grévistes.\n\n-  Nous irons à Neuchâtel 
 exiger que le Conseil d’Etat de ce canton respecte son propre arrêté: 
 la CCT 21 (convention collective de travail du secteur de la Santé du can
 ton de Neuchâtel) n’est pas un luxe\, elle doit s’appliquer au person
 nel de l’Hôpital de la Providence aussi.\nLe groupe Genolier Swiss Medi
 cal Network (GSMN) – groupe de cliniques privées qui est une filiale à
  100% d'AEVIS Holding SA – a posé comme condition du rachat de la Provi
 dence le démantèlement de la CCT 21\, avec l'assurance du Conseil d'Etat
  que La Providence restera sur la liste hospitalière jusqu'en 2016. Cela 
 doit permettre au GSMN de profiter de la révision de la LAMal et du nouve
 au système de financement hospitalier (voir sur ce sujet l'article publi
 é sur ce site en date du 28 janvier 2013: «Le nouveau financement hospit
 alier creuse son sillon»). Parmi les mérites que GSMN s'attribue\, on pe
 ut relever celui d'assurer «un environnement de travail agréable»! Un 
 «environnement» auquel le Conseil d'Etat de Neuchâtel veut contribuer. 
 Le président du conseil d'administration d'AEVIS Holding SA\, Christian W
 enger\, siège à la très officielle CTI\, dont la fonction est définie 
 ainsi par l'administration fédérale: «En tant qu'agence pour la promoti
 on de l'innovation de la Confédération\, la CTI encourage la recherche a
 ppliquée et développement (R&amp\;D)\, la promotion de l'entrepreneuriat
  et le développement de jeunes entreprises.»\n\n-  Nous irons à Neuch
 âtel parce que nous sommes déterminé·e·s à ne pas laisser les groupe
 s de cliniques privées imposer leurs lois d’exception.\n\nTract du comi
 té de soutien de Neuchâtel:\n\n\n\n\n\n&nbsp\;\n\n&nbsp\;\n\n&nbsp\;\n\n
 &nbsp\;\n\n&nbsp\;\n\n&nbsp\;\n\n&nbsp\;\n\n&nbsp\;\n\n&nbsp\;\n\n&nbsp\;\
 n\n&nbsp\;\n\n&nbsp\;\n\n&nbsp\;\n\n&nbsp\;\n\n&nbsp\;\n\n&nbsp\;\n\n&nbsp
 \;\n\n&nbsp\;\n\n&nbsp\;\n\n&nbsp\;\n\n&nbsp\;\n\n&nbsp\;\n\n&nbsp\;\n\n&n
 bsp\;\n\n&nbsp\;\n\n&nbsp\;\n\n&nbsp\;\n\n&nbsp\;\n\n&nbsp\;\n\n&nbsp\;\n\
 n&nbsp\;\n\n&nbsp\;\n\n&nbsp\;\n\n&nbsp\;\n\n&nbsp\;\n\n&nbsp\;\n\n&nbsp\;
 \n\n&nbsp\;\n\n&nbsp\;\n\n&nbsp\;\n\n&nbsp\;\n\n&nbsp\;\n\n&nbsp\;\n\n&nbs
 p\;\n\n&nbsp\;\n\n&nbsp\;\n\n&nbsp\;\n\n&nbsp\;\n\n&nbsp\;\n\n&nbsp\;\n\n&
 nbsp\;\n\n&nbsp\;\n\n&nbsp\;\n\n&nbsp\;
ATTACH;FMTTYPE=image/jpeg:https://soleilvert.ch/wp-content/uploads/2013/02
 /Tract-scaled.jpg
CATEGORIES:Rassemblements
LOCATION:Gare\, Place de la Gare\, Neuchâtel \, NE\, Suisse
GEO:46.9962113;6.93601179999996
X-APPLE-STRUCTURED-LOCATION;VALUE=URI;X-ADDRESS=Place de la Gare\, Neuchât
 el \, NE\, Suisse;X-APPLE-RADIUS=100;X-TITLE=Gare:geo:46.9962113,6.9360117
 9999996
END:VEVENT
END:VCALENDAR