BEGIN:VCALENDAR
VERSION:2.0
PRODID:-//wp-events-plugin.com//6.4.7.1//EN
BEGIN:VEVENT
UID:34@soleilvert.ch
DTSTART:20140318T163000Z
DTEND:20140318T183000Z
DTSTAMP:20140311T130618Z
URL:https://soleilvert.ch/events/syrie-une-revolution-defiguree-conference
 -debat-avec-jean-pierre-filiu-mardi-18-mars-17h30-unil-geopolis-salle-1612
SUMMARY:Syrie: une révolution défigurée. Conférence-débat avec Jean-Pi
 erre Filiu\, mardi 18 mars\, 17h30\, UNIL Géopolis\, salle 1612 - Salle 1
 612 - 18 Mar 14 17:30
DESCRIPTION:Conférence-débat\nSYRIE: UNE RÉVOLUTION DÉFIGURÉE\n«Là-b
 as\, des civils et des combattants ne comprennent pas\nque nous ne compren
 ions pas»\n\n\nJEAN-PIERRE FILIU\nJean-Pierre Filiu est professeur des un
 iversités en histoire du Moyen-Orient contemporain à Sciences Po\, Paris
 . Il est l’auteur\, entre autres\, de Je vous écris d'Alep. Au cœur de
  la Syrie en révolution\, Denoël\, 2013\, et Le Nouveau Moyen-Orient. Le
 s peuples à l'heure de la révolution syrienne\, Fayard\, 2013. \n\n\nLa
 usanne\, UNIL\, mardi 18 mars\nBâtiment Géopolis\, salle 1612\, à 17h3
 0\n\nLadite conférence de Genève 2 en janvier et février 2014 a abouti 
 à un échec\, programmé. Pire\, l’image construite\, afin de camoufler
  mille et une compromissions\, est devenue la suivante: «deux camps\, ég
 alement responsables\, refusent une solution de paix». Il y a là la mise
  en forme d’une duperie affublée d’un «réalisme géopolitique» onu
 sien.\n\nOr\, le soulèvement pacifique de la population rebelle syrienne 
 contre la dictature du clan Assad a explosé dès mars 2011. Puis la bruta
 le répression du régime de Bachar el-Assad a nécessité une autodéfens
 e. Face à cette stratégie de massacres\, de tueries\, de dévastations\,
  la militarisation de la rébellion devenait une exigence pour tenter d’
 abattre un pouvoir autocratique. Les rebelles\, qui s’appuyaient sur un 
 réseau significatif de résistance civile (comités locaux\, approvisionn
 ement\, centres médicaux\, etc.)\, avaient besoin d’une véritable aide
  militaire. Elle leur fut déniée. Le pouvoir de Bachar recevait\, lui\, 
 un appui sans réserve de l’Iran\, du Hezbollah libanais\, de troupes ve
 nant de l’Irak\, et de la Russie de Poutine.\n\nLe refus des pays occide
 ntaux de répondre aux demandes pressantes de la rébellion d’obtenir de
 s moyens de défense face à l’aviation et aux hélicoptères a dès lor
 s élargi le champ de manœuvre pour des forces djihadistes appuyées par 
 le Qatar et l’Arabie saoudite qui jouent leurs propres cartes dans cette
  région chamboulée par des soulèvements démocratiques. La présence m
 édiatisée des «combattants djihadistes» – dont une partie fait le je
 u d’Assad – a brouillé les enjeux essentiels du soulèvement. Ce qui 
 ne pouvait que fournir une justification supplémentaire au déni d’une 
 aide effective à cette rébellion. Sa persistance – au-delà de toutes 
 ses difficultés et des «négociations locales» contraintes – s’ancr
 e dans la détermination d’une population blessée\, affamée\, de conti
 nuer à vouloir se battre pour sa dignité et ses revendications démocrat
 iques et sociales.\n\nC’est en allant «au cœur de la révolution syrie
 nne»\, avec Jean-Pierre Filiu\, que la compréhension de ce qui le fait b
 attre renforcera toutes les formes de solidarité avec une population rés
 istante qui\, au-delà de ses souffrances innombrables\, attend qu’on l
 ’entende et la soutienne.\nOrganisée par FemmeS pour la démocratie\, s
 olidaritéS\, Mouvement pour le socialisme\n&nbsp\;\n\nCliquez ici pour l'
 obtenir en format PDF A4
ATTACH;FMTTYPE=image/jpeg:https://soleilvert.ch/wp-content/uploads/2014/03
 /JPFiliuA4-scaled.jpg
CATEGORIES:Conférence-débat
LOCATION:Salle 1612\, UNIL Géopolis\, Lausanne\, Suisse
GEO:46.5265078;6.579522200000042
X-APPLE-STRUCTURED-LOCATION;VALUE=URI;X-ADDRESS=UNIL Géopolis\, Lausanne\,
  Suisse;X-APPLE-RADIUS=100;X-TITLE=Salle 1612:geo:46.5265078,6.57952220000
 0042
END:VEVENT
END:VCALENDAR