BEGIN:VCALENDAR
VERSION:2.0
PRODID:-//wp-events-plugin.com//6.4.7.1//EN
BEGIN:VEVENT
UID:32@soleilvert.ch
DTSTART:20131101T163000Z
DTEND:20131101T173000Z
DTSTAMP:20131028T100646Z
URL:https://soleilvert.ch/events/syrie-rassemblement-le-1er-novembre-2013-
 geneve-av-de-la-paix-17h30-18h30-pour-la-liberation-de-tous-les-detenus-pa
 r-le-regime-assad-soutenu-par-moscou
SUMMARY:Syrie. Rassemblement le 1er novembre 2013\, 17h30-18h30\, Genève\,
  avenue de la Paix. Pour la libération de tous les détenu·e·s par le r
 égime Assad\, soutenu par Moscou - Mission permanente de Russie - 1 Nov 1
 3 17:30
DESCRIPTION:Rassemblement devant la mission permanente de la Russie\nle 01.
 11.2013 de 17h30 à 18h30\n\nLa Russie a une grande responsabilité dans l
 e maintien en place du régime criminel des Assad et dans la perpétuation
  de la souffrance du peuple syrien. La Russie se rend ainsi complice de cr
 imes contre l’humanité.\n\nC’est pour cette raison que les organisate
 urs dénoncent aujourd’hui le rôle de la Russie et lancent un appel pou
 r un rassemblement devant la mission permanente de la Russie\, le 01.11.20
 13 de 17h30 à 18h30\, dans le cadre de l’appel mondial des Syrien-ne-s 
 de l’intérieur au soutien des détenu-e-s en Syrie du 29.10.2013 au 05.
 11.2013.\n\nCampagne en faveur de tout-e-s les détenu-e-s Syrien-ne-s\n\n
 Tou-te-s les Syrien-ne-s partout dans le monde sont invité-e-s à prendre
  part à cette campagne\, qui aura lieu du 29.10 au 05.11.2013. Le but ét
 ant de mettre en lumière et de faire connaître à tous le dossier des d
 étenu-e-s syriens qui est l’un des dossiers les plus douloureux.\n\nLe 
 mouvement populaire syrien a commencé suite à l’arrestation des enfant
 s à Daraa qui ont été sauvagement torturés. Depuis cette date\, les ar
 restations continuent et ciblent\, en particulier\,  les manifestant-e-s\
 , les activistes pacifistes\, les journalistes\, les travailleur-se-s huma
 nitaires\, les médecins\, les secouristes mais également les membres des
  familles des activistes. La torture est systématique et effrayante dans 
 les centres de détention du régime syrien\, elle mène de plus en plus s
 ouvent à la mort du détenu-e. Les différents rapports élaborés par l
 ’ONU ainsi que par les organisations non-gouvernementales telles que Amn
 esty international et Human Rights Watch en témoignent.\n\nOn retrouve ce
 s mêmes pratiques depuis quelques mois dans les territoires libérés qui
  se trouvent sous le contrôle du groupe armé « l’Etat Islamique de l
 ’Irak et du Levant » qui a été créé par le régime Assad qui le ma
 nipule. Le Père jésuite Paolo Dall’Oglio\, grand ami du peuple syrien\
 , a été arrêté par ce groupe dans le nord de la Syrie et son sort est 
 toujours inconnu.\n\nLes Syrien-ne-s subissent également la détention ar
 bitraire dans d’autres pays arabes vers lesquels ils fuient et essaient 
 d’y trouver refuge. Des familles syriennes se retrouvent ainsi en déten
 tion en Egypte (depuis juillet dernier)\, d’autres sont renvoyées en Sy
 rie. D’autres pays arabes ont recours à ces mêmes pratiques\, mais dan
 s une moindre mesure.\n\nSur les conditions de détention en Syrie [1]:\n\
 n	Souvent la famille n’a aucune idée de l’endroit de la détention \
 ;\n	un très grand nombre de détenu-e-s sont placé-e-s ensemble\, une ce
 llule de 3x5m peut accueillir plus d’une centaine de détenu-e-s \;\n	r
 epas maigres et de qualité médiocre (par ex. : riz non cuit ou patates 
 bouillies ou soupe de lentilles\, un peu de pain piétiné par les membres
  de la « sécurité ») \;\n	manque de soins médicaux (visite médica
 le mensuelle de courte durée) \;\n	torture barbare provoquant des blessu
 res qui restent sans soins et provoquent des infections \;\n	déplacement
  du/de la détenue entre plusieurs centres de détention où l’interroga
 toire recommence à chaque déplacement \;\n	se rendre aux toilettes coï
 ncide le plus souvent avec une séance de torture \;\n	si la personne meu
 rt sous la torture\, le corps n’est\, de plus en plus souvent\, pas rend
 u à la famille.\n\nSur les méthodes de torture:\n\n	Torturer les uns dev
 ant les autres.\n	Porter des coups par tous les moyens (mains\, bottes mil
 itaires\, fouets\, bâtons\, morceaux de pneus\, câbles métalliques parf
 ois électrifiés) visant toutes les parties du corps\, pendant une longue
  période\, et dès les premières minutes de l’arrestation.\n	Mettre la
  personne pliée en deux dans un pneu avant de la frapper.\n	« Shabeh 
 »: suspendre la personne par les poignets pendant des heures en lui porta
 nt des coups.\n	Electrocution.\n	Forcer la personne à rester debout ou à
  genoux pendant des heures.\n	« Tapis volant » attacher la personne su
 r deux planches en bois liées par une articulation pour plier le corps ju
 squ’au craquement des articulations du détenu.\n	Viol des détenus\, to
 us âges et sexes confondus\, par tous les moyens y compris avec des objet
 s métalliques.\n	Suspendre les détenus par leur sexe.\n	Verser de l’hu
 ile bouillante sur le détenu.\n	Percer le corps avec une perceuse électr
 ique.\n	Tirer des balles sur la personne sans la tuer.\n\nPouvons-nous tol
 érer la poursuite de cette barbarie et continuer à considérer l’Etat 
 qui l’institutionnalise comme souverain\, et le boucher à sa tête comm
 e un président ?\n\nStatistiques de détention [2]:\n\nDétenus +248'000
 \, dont 9'000 enfants et 5'600 Femmes dont :\n+ 3'000 détenus travailleu
 rs du domaine de la santé \;\n+ 35'000 détenus étudiants\, dont 4'000 
 étudiantes \;\n+ 3'100 personnes mortes sous la torture\, dont 28 femmes
 \,  98 étudiants et 90 enfants.\n\n&nbsp\;\n\nNOUS demandons à toutes l
 es organisations des droits de l’Homme d’œuvrer pour la libération d
 es détenu-e-s en Syrie. Nous demandons à tous les pays démocratiques d
 ’œuvrer pour la traduction des responsables des crimes contre l’Human
 ité en Syrie devant le Tribunal Pénal International. Nous exigeons que l
 e peuple syrien puisse accéder à ces revendications de liberté\, démoc
 ratie et justice sociale.\n\n&nbsp\;\n\nOrganisateurs:\nFemmeS pour la Dé
 mocratie\, solidaritéS\, Mouvement pour le socialisme (MPS)\,....\n\n&nbs
 p\;\n\n\n\n\n\n\n[1] http://www.vdc-sy.info/index.php/en/reports\n\n\n\n\n
 [2] http://www.syrianhr.org/index.php?option=com_content&amp\;view=categor
 y&amp\;id=2&amp\;Itemid=6\nhttp://csr-sy.org/index.php?l=1\nhttps://www.fa
 cebook.com/photo.php?fbid=516906375065109&amp\;set=a.358777750877973.90132
 .358020180953730&amp\;type=1&amp\;theater\n\n&nbsp\;\n\n\n
CATEGORIES:Rassemblements
LOCATION:Mission permanente de Russie\, Av. de la Paix\, Genève\, Suisse
GEO:46.2229878;6.142043999999942
X-APPLE-STRUCTURED-LOCATION;VALUE=URI;X-ADDRESS=Av. de la Paix\, Genève\, 
 Suisse;X-APPLE-RADIUS=100;X-TITLE=Mission permanente de Russie:geo:46.2229
 878,6.142043999999942
END:VEVENT
END:VCALENDAR