BEGIN:VCALENDAR
VERSION:2.0
PRODID:-//wp-events-plugin.com//6.4.7.1//EN
BEGIN:VEVENT
UID:14@soleilvert.ch
DTSTART:20121017T173000Z
DTEND:20121017T200000Z
DTSTAMP:20121015T195948Z
URL:https://soleilvert.ch/events/soiree-de-solidarite-avec-le-peuple-grec
SUMMARY:Soirée de solidarité avec le peuple grec -  - 17 Oct 12 18:30
DESCRIPTION:Projection du film Debtocracy suivie d’une discussion\nMercre
 di 17 octobre\, 18h30\nau Café Gavroche\, 4\, Boulevard James Fazy 1201 G
 enève \nOrganisé par Comité de soutien au peuple grec
CATEGORIES:Conférence-débat
END:VEVENT
END:VCALENDAR