BEGIN:VCALENDAR
VERSION:2.0
PRODID:-//wp-events-plugin.com//6.4.7.1//EN
BEGIN:VEVENT
UID:45@soleilvert.ch
DTSTART:20141105T163000Z
DTEND:20141105T180000Z
DTSTAMP:20141104T185108Z
URL:https://soleilvert.ch/events/rassemblement-en-hommage-a-remi-fraisse-l
 ausanne-17h30-place-saint-laurent
SUMMARY:Rassemblement en hommage à Rémi Fraisse\, Lausanne\, 17h30\, plac
 e Saint-Laurent - Place Saint-Laurent - 5 Nov 14 17:30
DESCRIPTION:Rassemblement de protestation à Lausanne pour dénoncer les vi
 olences policières meurtrières contre les militant-e-s politiques\nRémi
  Fraisse\, assassiné: ni OUBLI\, ni PARDON\nLausanne - mercredi 5 novembr
 e\, 17h30 - place Saint-Laurent\n
CATEGORIES:Rassemblements
LOCATION:Place Saint-Laurent\, Place Saint-Laurent\, Lausanne\, Suisse
GEO:46.1773132;7.1938347999999905
X-APPLE-STRUCTURED-LOCATION;VALUE=URI;X-ADDRESS=Place Saint-Laurent\, Lausa
 nne\, Suisse;X-APPLE-RADIUS=100;X-TITLE=Place Saint-Laurent:geo:46.1773132
 ,7.1938347999999905
END:VEVENT
END:VCALENDAR