BEGIN:VCALENDAR
VERSION:2.0
PRODID:-//wp-events-plugin.com//6.4.7.1//EN
BEGIN:VEVENT
UID:16@soleilvert.ch
DTSTART:20121124T130000Z
DTEND:20121124T170000Z
DTSTAMP:20121116T133530Z
URL:https://soleilvert.ch/events/politiques-migratoires-de-la-confederatio
 n-lignes-generales-consequences-et-quelques-principes-pour-les-combattre-a
 pres-midi-de-formation-et-discussion-cercle-la-breche
SUMMARY:«Politiques migratoires» de la Confédération? Lignes générale
 s\, conséquences et quelques principes pour les combattre! Après-midi de
  formation et discussion\, Cercle la brèche -  - 24 Nov 12 14:00
DESCRIPTION:Après-midi de formation et de discussion du Cercle la brèche\
 ncontre le racisme\, la xénophobie et l’exploitation!\nLausanne – 24
  novembre 2012 – 14h-18h°°\n\nScience et racisme\, liaisons dangereus
 es?\n«Politiques migratoires» de la Confédération?\nLignes générales
 \, conséquences et quelques principes pour les combattre! \nDébut octob
 re\, le Conseil fédéral faisait passer une révision de la Loi sur l’a
 sile dans le cadre de la «législation d’urgence». En d’autres terme
 s\, les sommets de l’Etat ont choisi d’utiliser une voie autoritaire p
 our détruire le droit d’asile. Plus encore\, les «praticiens des expul
 sions» se voient attribuer des pouvoirs discrétionnaires puisqu’ils di
 sposent d’un large champ d’expérimentation pour «tester» diverses m
 esures dans le domaine de l’asile\, cela en dehors de tout contrôle dé
 mocratique! On tente de calmer les craintes en affirmant que ces mesures n
 e sont prises que pour une durée provisoire. Il n’y a pourtant guère d
 e doute que ces mesures développeront leur propre dynamique et créeront 
 une série de précédents. En outre\, l’Etat et une bonne partie de l
 ’establishment politique font fond sur la diabolisation des requérant·
 e·s d’asile et sur les peurs qu’ils contribuent à répandre pour fai
 re rendre «acceptables» des conditions de vie exécrables: confinement\,
  interdiction de travailler\, déni de droits. Pourtant\, derrière les rh
 étoriques anxiogènes ces mesures s’appliquent à une catégorie de per
 sonnes\, «chosifiées» par l’administration\, négligeable dans l’e
 nsemble de la population: 40’000 individus environ. Ces mesures doivent 
 être combattues en tant que telles\, des pistes alternatives existent. Ce
  qui est cependant en jeu est plus large: «l’asile» – qui est en fai
 t détruit – sert de laboratoire à l’extension de pratiques inaccepta
 bles dans les domaines les plus larges: autres catégories «d’étranger
 s»\, Roms\, chômeurs\, personnes à l’assistance sociale\, etc.\nPlus 
 largement\, ces nouvelles mesures doivent être mises en rapport autant av
 ec les politiques qui se développent en Europe en matière de ladite «ge
 stion des flux migratoires» qu’avec les dispositifs de pratiques et de 
 législations qui «règlent» les conditions de déplacement\, d’établ
 issement et de vie de l’ensemble de la «population étrangère» en Sui
 sse. En ces temps de crises en Europe la migration devient une perspective
  – ou l’illusion d’une perspective – pour des couches croissantes 
 de jeunes à la recherche d’un travail. La question des migrations ainsi
  que celle des droits sociaux et syndicaux sont donc indissociables. Cela 
 dans un contexte où les politiques d’austérité sont utilisées pour p
 ulvériser autant les dispositifs de protection sociale que les droits des
  travailleurs. Ce double processus crée les conditions d’une concurrenc
 e accrue à tous les niveaux entre travailleurs. En d’autres termes le c
 ombat contre la xénophobie et le racisme doit s’articuler à la lutte c
 ontre l’exploitation et pour les droits sociaux\, syndicaux et politique
 s.\nDans le climat actuel\, il est indispensable de comprendre les dynamiq
 ues qui sous-tendent les «politiques migratoires» de la Confédération 
 afin de pouvoir les combattre. C’est pourquoi le Cercle la brèche organ
 ise un après-midi de formation et de discussion sur ce thème.\nIl a jug
 é indispensable d’y ajouter une discussion sur le thème plus large du 
 racisme: comment se sont élaborées les théories racistes au cours du XX
 e siècle? Quelles étaient ses relations avec une pensée «hiérarchique
 » où le positionnement social et le sexe redoublaient la question de «r
 ace»? Ces théories empreignent-elles toujours notre façon de percevoir 
 le monde et les autres? Sous quelles formes se présentent aujourd’hui l
 es théories «respectables» en matière de xénophobie et de racisme? De
 s questions qui sont brûlantes et dont la meilleure compréhension ne peu
 t que renforcer le combat contre le racisme et la xénophobie. Car\, oui\,
  comme l’écrivait Stephen Jay Gould dans son remarquable ouvrage La mal
 -mesure de l’homme: «Nous ne traversons cette vie qu’une fois. Peu de
  tragédies ont plus de conséquences que de ne pas permettre à la vie de
  s’épanouir\, peu d’injustices sont plus profondes que de réduire à
  néant les occasions de se développer\, ou même d’espérer\, à cause
  de limites imposées de l’extérieur mais que l’on pense venir de soi
 .»\nDes textes préparatoires sont disponibles sur notre blog cerclelabre
 che.wordpress.com. \nL’entrée est libre\, inscription jusqu’au 22 nov
 embre à jmps@labreche.ch (les détails – lieu et autres – seront comm
 uniqués aux inscrits) \nDes déplacements au départ de Fribourg et de Ge
 nève seront organisés: contactez-nous! \n\n\n&nbsp\;\n\n&nbsp\;\n\nSous
  forme de PDF\, vous trouverez\nla publication des Jeunes du MPS\,\nN° 5\
 , novembre 2012\n\n&nbsp\;\n\n&nbsp\;\n\n&nbsp\;\n\n&nbsp\;\n\n&nbsp\;\n\n
 &nbsp\;\n\n&nbsp\;\n\n&nbsp\;\n\n&nbsp\;
ATTACH;FMTTYPE=image/jpeg:https://soleilvert.ch/wp-content/uploads/2012/11
 /CercleLB-scaled.jpg
CATEGORIES:Week-end de discussions
END:VEVENT
END:VCALENDAR