BEGIN:VCALENDAR
VERSION:2.0
PRODID:-//wp-events-plugin.com//6.4.7.1//EN
BEGIN:VEVENT
UID:28@soleilvert.ch
DTSTART:20130627T190000Z
DTEND:20130627T223000Z
DTSTAMP:20130616T160546Z
URL:https://soleilvert.ch/events/ou-va-liran-sa-societe-son-pouvoir-quelle
 -solidarite-vendredi-27-juin-20h-geneve-maison-des-associations
SUMMARY:Où va l'iran\, sa société\, son pouvoir? Quelle solidarité? Con
 férence-débat. Jeudi 27 juin\, 20h\, Genève\, Maison des associations -
  Maison des Associations - 27 Juin 13 20:00
DESCRIPTION:
ATTACH;FMTTYPE=image/jpeg:https://soleilvert.ch/wp-content/uploads/2013/06
 /Iran1.jpg
CATEGORIES:Conférence-débat
LOCATION:Maison des Associations\, Rue des Savoises 15\, Genève\, Suisse
GEO:46.2009682;6.138696699999969
X-APPLE-STRUCTURED-LOCATION;VALUE=URI;X-ADDRESS=Rue des Savoises 15\, Genè
 ve\, Suisse;X-APPLE-RADIUS=100;X-TITLE=Maison des Associations:geo:46.2009
 682,6.138696699999969
END:VEVENT
END:VCALENDAR