BEGIN:VCALENDAR
VERSION:2.0
PRODID:-//wp-events-plugin.com//6.4.7.1//EN
BEGIN:VEVENT
UID:18@soleilvert.ch
DTSTART:20130228T170000Z
DTEND:20130228T183000Z
DTSTAMP:20130219T194616Z
URL:https://soleilvert.ch/events/non-a-lintervention-neocoloniale-francais
 e-au-mali
SUMMARY:Non à l’intervention néocoloniale française au Mali - Genève\
 , devant le consulat de France - 28 Fév 13 18:00
DESCRIPTION:Rassemblement devant le consulat de France jeudi 28 février 1
 8h\nLa France\, ancienne puissance coloniale\, s'est engagée dans un nouv
 eau conflit dans un pays africain.\n\nL’objectif déclaré par les auto
 rités françaises est de défendre la souveraineté et l’intégrité te
 rritoriale du Mali contre l’activité croissante de groupes islamistes a
 u nord du pays\, qui menacent d’y établir « un Sahelistan jihadiste
  » selon le ministre des Affaires étrangères Laurent Fabius ou encore
  un « Etat terroriste à portée de l’Europe et de la France » sel
 on le ministre « socialiste » de la Défense\, Jean-Yves Le Drian.\n\n
 Encore une fois\, comme en Afghanistan\, les médias et nos gouvernements 
 nous racontent que cette bataille est menée pour des raisons idéologique
 s. Les rebelles sont des extrémistes\, martyrisent les populations locale
 s et détruisent le patrimoine historique dans les régions qu’ils occup
 ent. Tout cela est vrai et nous le condamnons avec force. Toutefois\, il e
 st faux de penser que la France est intervenue au Mali pour lutter contre 
 les extrémistes. Il s’agit d’un réel mythe à dissiper.\n\nCar si l'
 Occident est tellement préoccupé par toutes ces exactions et destruction
 s\, pourquoi n’intervient-il pas contre l'Arabie saoudite. L'idéologie 
 et l'approche littéraliste des rebelles maliens ont en effet leurs fondem
 ents et sont propagées par l'Etat saoudien et le mouvement wahhabite / sa
 lafiste. L’Occident entretient de très bonnes relations avec l'Arabie s
 aoudite et il n’a jamais mentionné les destructions du patrimoine histo
 rique du pays\, les traitements des travailleurs étrangers\, les exécuti
 ons\, les amputations et sans oublier le traitement des femmes.\n\nL’int
 ervention s’inscrit surtout dans une double approche : politique et de 
 contrôle des ressources. Premièrement il s’agit de remettre en selle u
 n pouvoir à sa solde à Bamako\, tout en défendant ses intérêts face 
 à la concurrence montante des Etats-Unis et de la Chine dans toute la sou
 s-région. Ensuite la région relève d’une importance stratégique pour
  ses ressources naturelles – hydrocarbures (bassin de Taoudeni\, au Nord
 -Mali)\, mais aussi uranium (quasi-monopole d’Areva au Niger\, proche de
  la frontière malienne)\, or\, bauxite\, fer\, etc. Ceci explique pourquo
 i les médias ne cessent de parler d’insécurité régionale\, de menace
  jihadiste\, comme de narcotrafic. Du point de vue des puissances impéria
 listes\, l’unité du Mali est au cœur des équilibres néocoloniaux de 
 toute la région. A l’inverse\, la rébellion touarègue\, qui aspire de
 puis longtemps à la formation d’un Etat sahélien occidental\, est son 
 talon d’Achille.\n\nL’intervention militaire de la France ressemble fu
 rieusement à celle du pompier pyromane et elle s’inscrit dans une certa
 ine continuité: République centrafricaine janvier 2013\, Côte d'Ivoire 
 avril 2011\, Tchad 2006\, 2008 (qui s'inscrit dans la permanence de l'opé
 ration "Epervier")\, Libye 2011. Responsable des atrocités de la colonisa
 tion\, l’ex-métropole entend réaffirmer les prérogatives de la Franç
 afrique en piétinant une nouvelle fois les intérêts des peuples du Mali
 \, de même que les revendications des Touaregs.\n\nNon à l’interventio
 n française néocoloniale au Mali\n\nOui à l’autodétermination des pe
 uples maliens \n\nOui aux droits démocratiques et sociaux des peuples du 
 Mali\n\nCondamnation de TOUTES les violations des Droit de l’Homme\, des
  exactions et des destructions (Forces française\, malienne et salafistes
 ) \n\nSignataires de l’appel : SolidaritéS\, Mouvement pour le Sociali
 sme (MPS)\, Gauche Anticapitaliste (GA)
ATTACH;FMTTYPE=image/jpeg:https://soleilvert.ch/wp-content/uploads/2013/02
 /402_image_0_preview.jpg
LOCATION:Genève\, devant le consulat de France\, Rue Senebier\, Genève\, 
 Suisse
GEO:46.197333;6.147866700000009
X-APPLE-STRUCTURED-LOCATION;VALUE=URI;X-ADDRESS=Rue Senebier\, Genève\, Su
 isse;X-APPLE-RADIUS=100;X-TITLE=Genève\, devant le consulat de France:geo
 :46.197333,6.147866700000009
END:VEVENT
END:VCALENDAR