BEGIN:VCALENDAR
VERSION:2.0
PRODID:-//wp-events-plugin.com//6.4.7.1//EN
BEGIN:VEVENT
UID:19@soleilvert.ch
DTSTART:20130315T163000Z
DTEND:20130315T183000Z
DTSTAMP:20130313T180956Z
URL:https://soleilvert.ch/events/manifestation-internationale-en-solidarit
 e-avec-le-peuple-syrien
SUMMARY:Genève. Manifestation internationale en solidarité avec le peuple
  syrien  - Place Neuve - 15 Mar 13 17:30
DESCRIPTION:«Stop» aux crimes contre les civils\n Que la justice soit ren
 due aux victimes\n Faire savoir au peuple syrien qu’il n’est pas seul\
 n15 mars 2013 – Place Neuve\, Genève – 17h30 à 19h30\n- Le 15 mars p
 rochain marquera les deux ans du début de la révolution syrienne.\nEn de
 ux ans\, plus de 70 000 personnes ont été tuées selon les chiffres de l
 'ONU\, des dizaines de milliers d’autres sont blessées\, emprisonnées 
 ou portées disparues. Des milliers de Syriennes et de Syriens sont privé
 s d’eau\, de nourriture et de soins\, victimes de pillages\, de torture 
 et de violences sexuelles. Des millions de civils ont été déplacés à 
 l’intérieur et des centaines de milliers sont réfugiés à l’extéri
 eur\, parfois dan...s des conditions inhumaines.\nPour dire « Stop » aux
  crimes contre les civils\, pour réclamer que justice soit rendue aux vic
 times et faire savoir au peuple syrien qu’il n’est pas seul : nous lan
 çons un appel à une manifestation internationale\, en solidarité avec l
 e peuple syrien qui se tiendra le 15 mars 2013 .\n- A la suite de la manif
 estation\, une soirée caritative sera organisée pour le 2ème anniversai
 re de la révolution syrienne par l’Union des Organisations Syriennes de
  Secours Médicaux (UOSSM) et les Démocrates Syriens à l'adresse suivant
 e: Maison des Associations\, rue des Savoises 15\, 1205 Genève. Prix de l
 'entrée: 10 CHF. Au programme: présentation de l'UOSSM\, chants\, specta
 cle et buffet syrien. Pré-réservations requises à ce numéro: 076/309.9
 5.96\n\nOrganisation :\nAssociation Collectif Jasmin\, L'Association de la
  Communauté Tunisienne en Suisse\, Association des Femmes Syriennes pour 
 la Démocratie\, Association des tunisien•ne•s en Suisse\, Démocrates
  Syriens\, Droit Pour Tous\, Fondation pour l’Entre-connaissance-Genève
 \, Gauche Révolutionnaire syrienne\, La Ligue des Musulmans de Suisse\, J
 eunesse socialiste Genevoise\, solidaritéS\, Mouvement pour le socialisme
  (MPS)\, Editions Page deux\, site alencontre.org...
CATEGORIES:Rassemblements
LOCATION:Place Neuve\, Place Neuve\, Genève\, Suisse
GEO:46.2009141;6.14338029999999
X-APPLE-STRUCTURED-LOCATION;VALUE=URI;X-ADDRESS=Place Neuve\, Genève\, Sui
 sse;X-APPLE-RADIUS=100;X-TITLE=Place Neuve:geo:46.2009141,6.14338029999999
END:VEVENT
END:VCALENDAR