BEGIN:VCALENDAR
VERSION:2.0
PRODID:-//wp-events-plugin.com//6.4.7.1//EN
BEGIN:VEVENT
UID:11@soleilvert.ch
DTSTART:20120929T133000Z
DTEND:20120929T133000Z
DTSTAMP:20120917T081249Z
URL:https://soleilvert.ch/events/manifestation-de-solidarite-avec-le-peupl
 e-syrien-insurge-samedi-29-septembre-berne
SUMMARY:Manifestation de solidarité avec le peuple syrien insurgé\, samed
 i 29 septembre\, Berne - Début de la manifestation à 14h30 - 29 Sep 12 1
 4:30
DESCRIPTION:\n\n&nbsp\;\n\n&nbsp\;\n\n&nbsp\;\n\n&nbsp\;\n\n&nbsp\;\n\n&nbs
 p\;\n\n&nbsp\;\n\n&nbsp\;\n\n&nbsp\;\n\n&nbsp\;\n\n&nbsp\;\n\n&nbsp\;\n\n&
 nbsp\;\n\n&nbsp\;\n\n&nbsp\;\n\n&nbsp\;\n\n&nbsp\;\n\n&nbsp\;\n\n&nbsp\;\n
 \n&nbsp\;\n\n&nbsp\;\n\n&nbsp\;\n\n&nbsp\;\n\n&nbsp\;\n\n
ATTACH;FMTTYPE=image/jpeg:https://soleilvert.ch/wp-content/uploads/2012/09
 /Pages-de-syrien_demo_flyer_A5_FR1.jpg
CATEGORIES:Rassemblements
LOCATION:Début de la manifestation à 14h30\, Place Fédérale\, Berne\, S
 uisse
GEO:46.9473336;7.4441366999999445
X-APPLE-STRUCTURED-LOCATION;VALUE=URI;X-ADDRESS=Place Fédérale\, Berne\, 
 Suisse;X-APPLE-RADIUS=100;X-TITLE=Début de la manifestation à 14h30:geo:
 46.9473336,7.4441366999999445
END:VEVENT
END:VCALENDAR