BEGIN:VCALENDAR
VERSION:2.0
PRODID:-//wp-events-plugin.com//6.4.7.1//EN
BEGIN:VEVENT
UID:39@soleilvert.ch
DTSTART:20140823T130000Z
DTEND:20140823T153000Z
DTSTAMP:20140819T141240Z
URL:https://soleilvert.ch/events/manifestation-de-solidarite-avec-le-peupl
 e-palestinien-14h-berne-schutzenmatte
SUMMARY:Manifestation de solidarité avec le peuple palestinien\, 14h\, Ber
 ne\, Schützenmatte -  - 23 Août 14 14:00
DESCRIPTION:Pour tout le peuple de Palestine: des droits effectifs\nafin de
  rompre avec le cercle funeste guerres-négociations!\nLe Mouvement pour l
 e socialisme (MPS)/Bewegung für Sozialismus (BFS) vous invite à particip
 er à la manifestation nationale de solidarité avec le peuple palestinien
 .\nSamedi 23 août\, Schützenmatte\, Berne\, 14 heures\n\n
ATTACH;FMTTYPE=image/jpeg:https://soleilvert.ch/wp-content/uploads/2014/08
 /gaza.jpg
END:VEVENT
END:VCALENDAR