BEGIN:VCALENDAR
VERSION:2.0
PRODID:-//wp-events-plugin.com//6.4.7.1//EN
BEGIN:VEVENT
UID:9@soleilvert.ch
DTSTART;VALUE=DATE:20120601
DTEND;VALUE=DATE:20120603
DTSTAMP:20120519T094205Z
URL:https://soleilvert.ch/events/lausanne-les-1er-et-2-juin-2012-debats-su
 r-la-situation-sociale-et-politique-aux-etats-unis-en-grece-en-france-et-e
 n-italie
SUMMARY:Lausanne\, les 1er et 2 juin 2012: débats sur la situation sociale
  et politique aux Etats-Unis\, en Grèce\, en France et en Italie -  - 1 J
 uin 12 00:00
DESCRIPTION:Chères lectrices et lecteurs\,\n\nle site alencontre.org\, les
  Editions Page deux et le MPS-BFS organisent le vendredi soir 1er juin et
  le samedi 2 juin (toute la journée) un «colloque» à Lausanne. Les th
 èmes à l’ordre du jour seront traités avant tout sous l’angle des p
 roblèmes et des difficultés que rencontrent les mouvements sociaux et po
 litiques qui visent à être partie prenante d’une riposte ample face au
 x atteintes portées contre le salaire social\, les «conditions de vie» 
 de l’ensemble des salarié·e·s ainsi que contre les droits démocratiq
 ues. Le but de ce colloque: chercher à comprendre afin de pouvoir décide
 r\, puis agir. Les thèmes débattus seront les suivants:\n\n• Les Etats
 -Unis entre le mouvement Occupy\, la mobilisation antiraciste (Trayvon Mar
 tin) et l’élection présidentielle de novembre 2012. Ce sujet sera intr
 oduit par Joel Geier\, économiste\, et Ahmed Shawki\, responsable de la r
 evue International Socialist Review (vendredi soir).\n\n• La situation s
 ocio-politique en France dans le contexte de la crise du capitalisme europ
 éen. Le thème sera introduit par Claude Jacquin\, économiste et consult
 ant auprès des comités d’entreprise\, ainsi que par Christian Mahieux\
 , responsable de Union syndicale Solidaires (samedi matin).\n\n• La Grè
 ce à un tournant? Ce thème sera introduit par Antonis Ntavanellos\, secr
 étaire du syndicat des journalistes\, membre de la direction de Syriza et
  de DEA (Gauche ouvrière internationaliste)\, et par Sotiris Martalis\, m
 embre du comité central du syndicat de la fonction publique ADEDY (samedi
  après-midi).\n\n• L’Italie sous le gouvernement Monti. Le thème ser
 a introduit par Marco Bertorello\, syndicaliste à Gênes\, dans le secteu
 r des transports (FLT-CGIL) et co-auteur de l’ouvrage Capitalismo tossic
 o\, et Roberto Firenze\, délégué RSU\, responsable de l’USB\, Union s
 yndicale de base\, commune de Milan (samedi soir).\n\n– Les lectrices et
  lecteurs qui sont intéressés à obtenir les enregistrements et videos d
 es introductions peuvent nous écrire à l’adresse mail:  redaction@sol
 eilvert.ch\n\n– Celles et ceux qui voudraient participer à l’ensembl
 e du colloque peuvent nous contacter à la même adresse (redaction@soleil
 vert.ch). Toutefois\, les places encore disponibles sont en nombre réduit
 . Dès lors\, nous ne pouvons pas assurer qu’une inscription puisse «do
 nner droit à une participation». 
CATEGORIES:Week-end de discussions
END:VEVENT
END:VCALENDAR