BEGIN:VCALENDAR
VERSION:2.0
PRODID:-//wp-events-plugin.com//6.4.7.1//EN
BEGIN:VEVENT
UID:40@soleilvert.ch
DTSTART:20140824T133000Z
DTEND:20140824T133000Z
DTSTAMP:20140819T142647Z
URL:https://soleilvert.ch/events/ken-bugul-personne-nen-veut-de-silvia-vos
 er-cinematheque-de-lausanne-14h30
SUMMARY:«Ken Bugul. Personne n'en veut»\, de Silvia Voser. Cinémathèque
  de Lausanne\, dimanche 24 août\,14h30 - Cinémathèque - 24 Août 14 14:
 30
DESCRIPTION:\n\n&nbsp\;\n\nKEN BUGUL. PERSONNE N'EN VEUT\nUN FILM DE SILVIA
  VOSER\nCinémathèque de Lausanne\, dimanche 24 août\, 14h30\n\nSENEGAL\
 , SUISSE\, FRANCE / 2013 / DOCU / 62’ / VO FR\n\nKen Bugul est une écri
 vaine sénégalaise\, qui vit là où son âme est ancrée\, en Afrique. K
 en Bugul c’est le style\, dans l’œuvre et dans la vie. C’est l’é
 nergie et le goût pour la liberté. Roman après roman\, elle compose une
  peinture de sa vie de femme\, de ses amours\, de ses peines et des rappor
 ts entre son continent et l’occident.. Tout est rencontres\, frictions\,
  étincelles et beauté. Ecrire\, dit Ken Bugul \,c’est éblouir les sen
 s\, et les sens n’ont pas de couleurs.\nwww.kenbugulfilm.com\nhttp://www
 .cine-afrique.ch/ken-bugul-personne-n-en-veut-fr1938.html
ATTACH;FMTTYPE=image/jpeg:https://soleilvert.ch/wp-content/uploads/2014/08
 /1085440.jpg
CATEGORIES:Film
LOCATION:Cinémathèque\, Allée Ernest-Ansermet 3\,\, Lausanne\, Suisse
GEO:46.5203755;6.625024800000006
X-APPLE-STRUCTURED-LOCATION;VALUE=URI;X-ADDRESS=Allée Ernest-Ansermet 3\,\
 , Lausanne\, Suisse;X-APPLE-RADIUS=100;X-TITLE=Cinémathèque:geo:46.52037
 55,6.625024800000006
END:VEVENT
END:VCALENDAR