BEGIN:VCALENDAR
VERSION:2.0
PRODID:-//wp-events-plugin.com//6.4.7.1//EN
BEGIN:VEVENT
UID:23@soleilvert.ch
DTSTART:20130531T163000Z
DTEND:20130531T210000Z
DTSTAMP:20130522T084620Z
URL:https://soleilvert.ch/events/journee-internationale-de-solidarite-avec
 -la-revolution-syrienne-31-mai-geneve-la-lutte-dun-peuple-pour-la-liberte-
 et-la-justice-sociale-une-revolution-orpheline-pourquoi
SUMMARY:Journée internationale de solidarité avec la Révolution syrienne
  – 31 mai\, Genève. La lutte d’un peuple pour la liberté et la justi
 ce sociale. Une révolution orpheline. Pourquoi? - Place Neuve - 31 Mai 13
  17:30
DESCRIPTION:\n\n\n \n\n\n\n\n\n\n\n&nbsp\;\n\n1. Rassemblement: Genève\, P
 lace Neuve\, de 17h30 à 18h30 (diverses prises de parole)\n2. A partir de
  19h: buffet syrien à la Maison des associations\, rue des Savoises 15 (t
 ram 15 depuis la gare CFF\, sortie Place du Cirque)\nLes fonds seront vers
 és à l’association Help Syrians – aide médicale aux Syriens et Syri
 ennes de l’intérieur.\n3. 20h: Conférence-débat à la Maison des asso
 ciations\, salle Gandhi\, avec\nMariah al Abdeh: activiste syrienne du Mo
 uvement de non-violence et travaillant sur de nombreux projets d’appui 
 à la population syrienne\n\nGhayath Naisse: opposant politique syrien en 
 exil. Il est l’un des fondateurs du Comité de défense des libertés d
 émocratiques en Syrie (CDF)\, créé en 1989\n\nMaryam al Khawaja: opposa
 nte du Bahreïn et militante des droits de l’homme. Elle s’est depuis 
 le début solidarisée avec la révolution syrienne\n\nIntervention de Hou
 shang Sepher\, militant iranien\, animateur de l’Association de solidari
 té avec les travailleurs iraniens. Le régime de Mahmoud Ahmadinejad\, pr
 ésident de l’Iran\, envoie des troupes spéciales qui combattent aux c
 ôtés des hommes de main d’Assad\n\nOrganisé par Collectif Jasmin\, Co
 urant de la Gauche Révolutionnaire syrienne\, Femmes Syriennes pour la D
 émocratie\, Entre-connaissance\, Mouvement pour le socialisme (MPS)\, sol
 idaritéS… (en date du 20.05.2013)\n\nLa lutte d’un peuple pour la lib
 erté et la justice sociale.\nUne révolution orpheline. Pourquoi?\n• Pl
 us de 94’000 personnes ont été tuées en Syrie depuis le début\, en m
 ars 2011\, de la révolution contre le régime du président Bachar el-Ass
 ad\, selon l’Observatoire syrien des droits de l’Homme (OSDH)\;\n\n•
  4\,2 millions de déplacé·e·s internes et 1\,4 million de réfugié
 ·e·s\, selon les chiffres de l’ONU\;\n\n• Des villes\, quartiers et 
 villages – d’un des berceaux de la civilisation – ravagés par les b
 ombardements du régime dictatorial.\n\nLes crimes et les destructions du 
 régime du dictateur Assad n’ont pas cessé contre le peuple syrien depu
 is mars 2011. Les chiffres et les faits cités ci-dessus montrent la situa
 tion épouvantable\, effrayante dans laquelle se trouve le peuple syrien e
 n manque de tout aujourd’hui face à la guerre menée par un régime con
 tre un peuple\, avec l’aide du régime iranien\, entre autres.\n\nPourqu
 oi la révolution syrienne reste-t-elle orpheline? Pourquoi la «communaut
 é internationale» a-t-elle abandonné le peuple syrien soulevé\, le lai
 ssant sans aide effective face aux massacres et destructions commis par la
  dictature Assad depuis plus de deux ans?\n\nC’est une question que se p
 osent de nombreux Syriens et Syriennes et des personnes du monde entier. Q
 uelles en sont les raisons réelles? La lutte en Syrie s’inscrit dans le
 s luttes populaires qui ont lieu en Egypte\, Tunisie\, Libye\, Bahreïn et
  autres pays dans toute la région. Le peuple syrien\, comme les autres\, 
 s’est révolté contre l’oppression et l’autoritarisme.\n\nPourquoi 
 les «grandes puissances» de ce monde ne réagissent-elles pas? Pourquoi 
 certaines donnent-elles des armes à la dictature\, par exemple la Russie 
 de Poutine ? Quels intérêts et opérations diplomatiques prennent le de
 ssus sur les souffrances du peuple syrien?\n\nRejoignez-nous le 31 mai 201
 3! Il faut démontrer que le peuple syrien n’a pas été oublié! Cette 
 date a été désignée «Journée internationale de solidarité avec la r
 évolution syrienne et le peuple syrien»\, lors du dernier Forum mondial 
 de Tunis. Des événements\, rassemblements et autres manifestations seron
 t organisés dans plus de 40 villes dans le monde entier.\n\nCette journé
 e du 31 mai 2013 se fera par rapport aux principes politiques suivants:\n\
 n• Le massacre du peuple syrien doit cesser maintenant!\n\n• Assad doi
 t démissionner et être traduit en justice.\n\n• Tous les pays ou les g
 roupes doivent cesser tout soutien financier et militaire au régime syrie
 n.\n\n• Toutes les ambassades du régime syrien doivent être fermées. 
 Aucune complicité avec le régime Assad en aucune façon.\n\n• Le repr
 ésentant de la Syrie doit être exclu de l'Organisation des Nations Unies
 .\n\n• De l'aide doit être envoyée à tous les réfugié·e·s syriens
  et aux personnes déplacées.\n\n&nbsp\;\n\nPour le format PDF\, cliquer 
 ici\n\n&nbsp\;\n\n&nbsp\;\n\n&nbsp\;\n\n&nbsp\;\n\n&nbsp\;\n\n&nbsp\;\n\n&
 nbsp\;\n\n&nbsp\;\n\n&nbsp\;\n\n&nbsp\;\n\n&nbsp\;\n\n&nbsp\;
ATTACH;FMTTYPE=image/jpeg:https://soleilvert.ch/wp-content/uploads/2013/05
 /941813_156128884561296_1795037896_n.jpg
CATEGORIES:Conférence-débat,Rassemblements
LOCATION:Place Neuve\, Place Neuve\, Genève\, Suisse
GEO:46.2009141;6.14338029999999
X-APPLE-STRUCTURED-LOCATION;VALUE=URI;X-ADDRESS=Place Neuve\, Genève\, Sui
 sse;X-APPLE-RADIUS=100;X-TITLE=Place Neuve:geo:46.2009141,6.14338029999999
END:VEVENT
END:VCALENDAR