BEGIN:VCALENDAR
VERSION:2.0
PRODID:-//wp-events-plugin.com//6.4.7.1//EN
BEGIN:VEVENT
UID:20@soleilvert.ch
DTSTART;VALUE=DATE:20130413
DTEND;VALUE=DATE:20130414
DTSTAMP:20130411T113519Z
URL:https://soleilvert.ch/events/journee-de-solidarite-avec-le-peuple-syri
 en-en-lutte-zurich
SUMMARY:Samedi 13 avril - Journée de solidarité avec le peuple syrien en 
 lutte (Zurich) - Volkhaus - 13 Avr 13 00:00
DESCRIPTION:Cliquez ici pour avoir le programme en format PDF: Zurich13avri
 l2013def2\n\n\n\n
ATTACH;FMTTYPE=image/jpeg:https://soleilvert.ch/wp-content/uploads/2013/03
 /Zurich13avril2013def2A4_Page_4.jpg
CATEGORIES:Conférence-débat
LOCATION:Volkhaus\, Stauffacherstrasse 60\, Zurich\, Zurich\, 8004\, Suisse
GEO:47.3754575;8.527224499999988
X-APPLE-STRUCTURED-LOCATION;VALUE=URI;X-ADDRESS=Stauffacherstrasse 60\, Zur
 ich\, Zurich\, 8004\, Suisse;X-APPLE-RADIUS=100;X-TITLE=Volkhaus:geo:47.37
 54575,8.527224499999988
END:VEVENT
END:VCALENDAR