BEGIN:VCALENDAR
VERSION:2.0
PRODID:-//wp-events-plugin.com//6.4.7.1//EN
BEGIN:VEVENT
UID:4@soleilvert.ch
DTSTART:20120211T103000Z
DTEND:20120211T133000Z
DTSTAMP:20120209T161640Z
URL:https://soleilvert.ch/events/halte-aux-massacres-en-syrie
SUMMARY:Halte aux massacres en Syrie - Rassemblement - Place de la Palud - 
 11 Fév 12 11:30
DESCRIPTION:Rassemblement de solidarité avec les insurgés Syriens\n
ATTACH;FMTTYPE=image/jpeg:https://soleilvert.ch/wp-content/uploads/2012/02
 /solidafiche.jpg
CATEGORIES:Rassemblements
LOCATION:Place de la Palud\, Place de la palud\, Lausanne\, Vaud\, Suisse
GEO:46.5219452;6.6328832000000375
X-APPLE-STRUCTURED-LOCATION;VALUE=URI;X-ADDRESS=Place de la palud\, Lausann
 e\, Vaud\, Suisse;X-APPLE-RADIUS=100;X-TITLE=Place de la Palud:geo:46.5219
 452,6.6328832000000375
END:VEVENT
END:VCALENDAR