BEGIN:VCALENDAR
VERSION:2.0
PRODID:-//wp-events-plugin.com//6.4.7.1//EN
BEGIN:VEVENT
UID:30@soleilvert.ch
DTSTART:20130809T160000Z
DTEND:20130809T170000Z
DTSTAMP:20130807T203827Z
URL:https://soleilvert.ch/events/enlevement-du-pere-paolo-dalloglio-rassem
 blement-vendredi-9-aout-2013-a-geneve-17h-place-des-nations
SUMMARY:Enlèvement du Père Paolo Dall'Oglio: rassemblement vendredi 9 ao
 ût 2013 à Genève\, 17h\, place des nations - Place des Nations - 9 Aoû
 t 13 17:00
DESCRIPTION:Vendredi 9 août 2013 à Genève\, 17h\, place des nations.\nRa
 ssemblement de solidarité avec la révolution syrienne pour dénoncer les
  enlèvements d’activistes syrien(ne)s\, de journalistes\, du Père Paol
 o et d'autres responsables religieux par des groupes proches d’Al-Qaïda
 \, au nord de la Syrie.\nNous rappelons ici les valeurs pour lesquelles le
  peuple syrien s’est soulevé et la nécessité de les faire respecter a
 u sein de la révolution pour la consolider\, soit : dignité\, liberté\,
  démocratie et justice sociale.\n\nNous demandons à l’opposition syrie
 nne sous toutes ses formes et composantes: coalitions\, conseils\, partis 
 de l’intérieur et de l’extérieur\, ainsi qu’à tous les comités d
 e coordination locaux de prendre position contre ces pratiques indignes d
 e notre révolution dans les zones aujourd’hui libérées du joug de la 
 tyrannie des Assad.\n\nAinsi tous les groupes qui utilisent l’enlèvemen
 t\, la torture\, les prises d’otages et l’assassinat comme pratique du
  pouvoir doivent être considérés comme ennemis de la révolution à com
 battre au même titre que les groupes affiliés au régime Assad et dont l
 es pratiques nous sont tristement connues.\n\nL’enlèvement supposé du 
 Père Paolo\, dont nous sommes sans nouvelles depuis plus d’une semaine 
 est symptomatique du grave dérapage de certains groupes\, aujourd’hui m
 inoritaires\, mais qui doivent être rappelés à l’ordre avant qu’ils
  n’entachent durablement le projet démocratique en Syrie.\n\nEn effet\,
  le Père Paolo\, jésuite d’origine italienne qui a fondé la communaut
 é œcuménique de Marmoussa\, dans le respect des différentes croyances 
 des syriens\, est en lutte contre la radicalisation de certains d’entre 
 eux au sein de la révolution qu’il soutient corps et âme depuis plus d
 e 2 ans.\n\nLes enlèvements du Père Paolo\, syrien de cœur\, et de nomb
 reux activistes sont aujourd’hui des coups durs portés à la révolutio
 n que nous défendons\, celle qui réclame la liberté\, la dignité et la
  démocratie en Syrie.\n\nNous demandons à toutes les instances internati
 onales de soutenir l'opposition qui relaie les aspirations du peuple à la
  démocratie pour enfin mettre fin à cette situation chaotique dont le re
 sponsable principal est le régime mafieux Assad. Nous demandons aussi à 
 l’opposition syrienne d’agir d’urgence\, dans toute la mesure de ses
  moyens\, pour la libération de toutes les personnes enlevées\, dont le 
 Père Paolo dall’Oglio.\n\nContre les enlèvements et pour sauver la ré
 volution syrienne\, agissons !\n\nVive la révolution syrienne!\n\nLien Fa
 cebook: https://www.facebook.com/events/307766942700775/\n\nRassemblement
  organisé par FemmeS pour la Démocratie et le collectif Jasmin avec le s
 outien de solidaritéS\, du Mouvement Pour le Socialisme et de la Fondatio
 n Entre Connaissance.
CATEGORIES:Rassemblements
LOCATION:Place des Nations\, Place des Nations\, Genève\, Suisse
GEO:46.22292119999999;6.138955099999976
X-APPLE-STRUCTURED-LOCATION;VALUE=URI;X-ADDRESS=Place des Nations\, Genève
 \, Suisse;X-APPLE-RADIUS=100;X-TITLE=Place des Nations:geo:46.222921199999
 99,6.138955099999976
END:VEVENT
END:VCALENDAR