BEGIN:VCALENDAR
VERSION:2.0
PRODID:-//wp-events-plugin.com//6.4.7.1//EN
BEGIN:VEVENT
UID:10@soleilvert.ch
DTSTART:20120624T130000Z
DTEND:20120624T130000Z
DTSTAMP:20120621T213841Z
URL:https://soleilvert.ch/events/dimanche-24-juin-2012-14h-geneve-pont-des
 -bergues-journee-de-solidarite-avec-le-mouvement-etudiant-quebecois
SUMMARY:Dimanche 24 juin 2012\, 14h\, Genève (Pont des Bergues): journée 
 de solidarité avec le mouvement étudiant québécois - Pont des Bergues 
 - 24 Juin 12 14:00
DESCRIPTION:\n\n&nbsp\;\n\nPour lire la brochure\,\ncliquez ici\n\n&nbsp\;\
 n\n&nbsp\;\n\n&nbsp\;\n\n&nbsp\;\n\n&nbsp\;\n\n&nbsp\;\n\n&nbsp\;\n\n&nbsp
 \;\n\n&nbsp\;\n\n&nbsp\;\n\n&nbsp\;\n\n&nbsp\;\n\n&nbsp\;\n\n&nbsp\;\n\n&n
 bsp\;\n\n&nbsp\;\n\n&nbsp\;\n\n&nbsp\;\n\n&nbsp\;\n\n&nbsp\;\n\n&nbsp\;\n\
 n&nbsp\;
ATTACH;FMTTYPE=image/jpeg:https://soleilvert.ch/wp-content/uploads/2012/06
 /CLB3.jpg
CATEGORIES:Rassemblements
LOCATION:Pont des Bergues\, Pont des Bergues\, Genève\, Suisse
GEO:46.20585;6.147019999999998
X-APPLE-STRUCTURED-LOCATION;VALUE=URI;X-ADDRESS=Pont des Bergues\, Genève\
 , Suisse;X-APPLE-RADIUS=100;X-TITLE=Pont des Bergues:geo:46.20585,6.147019
 999999998
END:VEVENT
END:VCALENDAR