BEGIN:VCALENDAR
VERSION:2.0
PRODID:-//wp-events-plugin.com//6.4.7.1//EN
BEGIN:VEVENT
UID:31@soleilvert.ch
DTSTART:20130906T160000Z
DTEND:20130906T210000Z
DTSTAMP:20130904T173502Z
URL:https://soleilvert.ch/events/contre-les-massacres-a-larme-chimique-en-
 syrie-et-pour-le-soutien-a-la-revolution-syrienne-vendredi-6-septembre-17h
 -place-des-nations-geneve
SUMMARY:Contre les massacres à l'arme chimique en Syrie et pour le soutien
  à la Révolution syrienne. Vendredi 6 septembre\, 17h\, place des Nation
 s\, Genève - Place des Nations - 6 Sep 13 17:00
DESCRIPTION:Divers interventions auront lieu et 1500 bougies seront allumé
 es en hommage aux victimes de ce massacre perpétré par le régime Assad\
 n\n&nbsp\;\n\nManifestation organisée par les Femmes syriennes pour la d
 émocratie (FSD)\, soutenue par le réseau des médecins syriens (UOSSM)\,
  Mouvement pour le socialisme\, la Fondation de l'Entre-Connaissance\, les
  Jeunes Vert-e-s Genève\, les Jeunes SolidaritéS\n\n&nbsp\;\nPour toute 
 information\, cliquer sur ce lien:\nhttps://www.facebook.com/events/633542
 930010802/\n\n&nbsp\;\n\n&nbsp\;
CATEGORIES:Rassemblements
LOCATION:Place des Nations\, Place des Nations\, Genève\, Suisse
GEO:46.22292119999999;6.138955099999976
X-APPLE-STRUCTURED-LOCATION;VALUE=URI;X-ADDRESS=Place des Nations\, Genève
 \, Suisse;X-APPLE-RADIUS=100;X-TITLE=Place des Nations:geo:46.222921199999
 99,6.138955099999976
END:VEVENT
END:VCALENDAR