BEGIN:VCALENDAR
VERSION:2.0
PRODID:-//wp-events-plugin.com//6.4.7.1//EN
BEGIN:VEVENT
UID:33@soleilvert.ch
DTSTART:20131112T190000Z
DTEND:20131113T190000Z
DTSTAMP:20131103T103527Z
URL:https://soleilvert.ch/events/conferences-les-neonazis-daube-doree-quel
 le-cible-vise-le-gouvernement-grec-lausanne-12-novembre-20h-buffet-de-la-g
 are-geneve-13-novembre-20h-maison-des-associations
SUMMARY:Conférences. Les néonazis d'Aube dorée\, quelle cible vise le go
 uvernement grec? Lausanne 12 novembre\, 20h\, Buffet de la Gare. Genève 1
 3 novembre\, 20h\, Maison des associations -  - 12 Nov 13 20:00
DESCRIPTION:\n\n&nbsp\;\n\n\n\n&nbsp\;\n\n&nbsp\;\n\nPour l'imprimer en for
 mat PDF\, cliquer ici\n\n&nbsp\;
ATTACH;FMTTYPE=image/jpeg:https://soleilvert.ch/wp-content/uploads/2013/11
 /PDFTractGrecep1pet.jpg
CATEGORIES:Conférence-débat
END:VEVENT
END:VCALENDAR