BEGIN:VCALENDAR
VERSION:2.0
PRODID:-//wp-events-plugin.com//6.4.7.1//EN
BEGIN:VEVENT
UID:49@soleilvert.ch
DTSTART:20141125T183000Z
DTEND:20141125T210000Z
DTSTAMP:20141120T223127Z
URL:https://soleilvert.ch/events/conference-debat-violence-contre-la-femme
 -en-syrie-aujourdhui-avec-entre-autres-nouri-al-ameer-vice-presidente-de-l
 a-coalition-nationale-syrienne-mardi-25-novembre-19h30-ge
SUMMARY:Conférence-débat «Violence contre la femme en Syrie aujourd’hu
 i»\, avec entre autres Nouri Al-Ameer\, vice-présidente de la Coalition 
 nationale syrienne - Mardi 25 novembre\, 19h30 - Genève\, Maison des asso
 ciations\, Salle Aung San Suu Kyi\, rue des Savoises 15 - Maison des assoc
 iations - 25 Nov 14 19:30
DESCRIPTION:Conférence-débat\n\nViolence contre la femme en Syrie aujourd
 ’hui\navec\n\nNoura AL-AMEER\, vice-présidente de la Coalition national
 e syrienne\,\nTarek KURDI\, juriste du droit international\,\nKenda ZAOUR\
 , Alaa AL-HOMSI\, Eman ALKURDI\, témoins\, anciennes détenues\n Mardi 2
 5 novembre 2014 de 19h30-22h00\nGenève\, Maison des associations\, Salle 
 Aung San Suu Kyi\,\nrue des Savoises 15\nDepuis le début des protestation
 s en Syrie\, le 15 mars 2011\, la répression féroce du régime Assad a 
 touché toute la société syrienne\, hommes\, femmes et enfants. Les femm
 es ont participé activement aux manifestations d’abord et ont été act
 ives ensuite dans l’aide humanitaire. Elles ont subi la répression en t
 ant qu’activistes ou indirectement en représailles pour atteindre les a
 ctivistes de leurs familles. Des familles entières se sont trouvées en d
 étention. Les femmes syriennes ont ainsi subi la détention\, la torture\
 , l’enlèvement\, la violence sexuelle\, mais aussi le déplacement forc
 é vers d’autres régions en Syrie ou bien vers les pays voisins. Certai
 nes parmi elles ont subi des atrocités soit en détention\, soit sur les 
 barrages de « sécurité »\, soit encore lorsque les milices pro-Assad
  pénétraient une région après l’avoir assiégée et bombardée. Il y
  a 7’000 cas de viols documentés et le nombre réel dépasse de loin ce
  chiffre. Plus de 10 millions de Syriens ont perdu leurs maisons et sont 
 devenus réfugiés ou déplacés internes\, dont la moitié sont des enfan
 ts et une majorité de femmes constitue l’autre moitié. De nombreuses f
 emmes se sont retrouvées dans l’obligation de subvenir aux besoins de l
 eurs familles suite au décès d’un époux\, d’un père ou d’un frè
 re.\n\nSuite à la répression militaire prolongée et à la prolongation 
 de la crise en Syrie que l’on peut attribuer au régime en place et à l
 a lâcheté de la communauté internationale\, l’Etat Islamique a vu le 
 jour au printemps 2013. Ainsi les femmes dans certaines régions syriennes
  se sont vu faire face à la répression et à la violence de cette nouvel
 le entité terroriste (enlèvement\, privation de libertés\, etc.).\n\nA 
 l’occasion de la journée internationale pour l’élimination de la vio
 lence contre les femmes\, l’association FemmeS pour la Démocratie invit
 e Noura al-Ameer\, vice-présidente de la Coalition nationale syrienne et 
 responsable du dossier des droits humains\, Tarek Kurdi\, juriste syrien\,
  et trois anciennes détenues syriennes pour témoigner de la violence du 
 régime syrien dictatorial et de l’Etat Islamique contre les femmes en S
 yrie.\n\n&nbsp\;\n\nNoura al-Ameer 1987\, activiste de Homs dès le début
  de la révolution. Arrêtée au printemps 2012\, en détention pendant si
 x mois\, réfugiée en Turquie\, elle s’est engagée dans le soutien des
  femmes victimes d’exactions de la part du régime syrien. Elue vice-pr
 ésidente de la Coalition en janvier 2014 elle oeuvre en particulier pour 
 améliorer la relation de la coalition avec le terrain et avec les institu
 tions internationales\, et le rôle de la femme sur la scène politique.\n
 \n Tarek KURDI 1974\, juriste syrien\, spécialiste du droit international
 \, responsable du bureau juridique au ministère de la justice du gouverne
 ment provisoire syrien. Il défendait les détenus en Syrie avant d’êtr
 e obligé de s’enfuir en 2012 lorsqu’il a su qu’il était recherché
 .\n\n Kenda ZAOUR 1986\, activiste pacifiste de Damas\, s’est fait arrê
 ter suite au rassemblement en 2012\, dans le souk de Damas\, de quatre jeu
 nes femmes habillées en robes de mariage blanches et portant les slogans
  : « Pour l’humain en Syrie\, la société civile déclare l’arrêt
  de toutes les opérations militaires » et « La Syrie est pour nous to
 us ». Elle a retrouvé la liberté dans l’échange des prisonniers ira
 niens deux mois plus tard.\n\n Alaa AL-HOMSI 1993\, activiste de Homs\, mi
 litante dans l’aide humanitaire et dans la certification des martyrs de 
 la révolution à Homs. Elle a été arrêtée en novembre 2012 et relâc
 hée en janvier 2013 lors de l’échange avec les prisonniers iraniens.\
 n\n Eman ALKURDI 1984\, activiste à al-Khaldyeh à Homs\, militante dans 
 l’aide humanitaire et médicale à Homs\, a quitté la Syrie en avril 2
 013 suite à deux arrestations durant lesquelles elle a subi la torture sy
 stématique.\n\n&nbsp\;\n\nOrganisée par:\n\nFemmeS pour la Démocratie\n
 \nSoutenue par  le site www.alencontre.org\, le Mouvement pour le sociali
 sme (MPS)\, Amnesty International\, solidaritéS-GE\n\n\n&nbsp\;
CATEGORIES:Conférence-débat
LOCATION:Maison des associations\, Rue des Savoises 15\, Genève\, Suisse
GEO:46.2009682;6.138696699999969
X-APPLE-STRUCTURED-LOCATION;VALUE=URI;X-ADDRESS=Rue des Savoises 15\, Genè
 ve\, Suisse;X-APPLE-RADIUS=100;X-TITLE=Maison des associations:geo:46.2009
 682,6.138696699999969
END:VEVENT
END:VCALENDAR