BEGIN:VCALENDAR
VERSION:2.0
PRODID:-//wp-events-plugin.com//6.4.7.1//EN
BEGIN:VEVENT
UID:101@soleilvert.ch
DTSTART:20181120T230000Z
DTEND:20181121T190000Z
DTSTAMP:20181114T092727Z
URL:https://soleilvert.ch/events/conference-debat-sur-le-bresil-de-bolsona
 ro-avec-sonia-lucio-de-rio-de-janeiro-et-rodrigo-claudio-de-sao-paulo-laus
 anne-mercredi-21-novembre-20h-le-cazard
SUMMARY:Conférence-débat sur le Brésil de Bolsonaro\, avec Sonia Lucio d
 e Rio de Janeiro\, et Rodrigo Claudio de Sao Paulo - Mercredi 21 novembre\
 , 20h\, Lausanne\, Le Cazard -  - 21 Nov 18 00:00
DESCRIPTION:\n\n&nbsp\;\nA Zurich\, le 20 novembre\nWann: Dienstag\, 20. No
 vember 2018 um 19.00 Uhr\nWo: Volkshaus ZH (Gelber Saal)\, Stauffacherstr.
  60\, 8004 Zürich\n\n____\n\nA Fribourg\, le 22 novembre\n
ATTACH;FMTTYPE=image/jpeg:https://soleilvert.ch/wp-content/uploads/2018/11
 /ConfBresil21nov.jpg
CATEGORIES:Conférence-débat
END:VEVENT
END:VCALENDAR