BEGIN:VCALENDAR
VERSION:2.0
PRODID:-//wp-events-plugin.com//6.4.7.1//EN
BEGIN:VEVENT
UID:48@soleilvert.ch
DTSTART:20141118T163000Z
DTEND:20141118T181500Z
DTSTAMP:20141115T092603Z
URL:https://soleilvert.ch/events/conference-debat-en-defense-des-libertes-
 democratiques-academiques-et-dexpression-avec-alain-bihr-%c2%b7-mardi-18-n
 ovembre-%c2%b7-17h30-universite-de-lausanne-%c2%b7-geopolis-%c2%b7
SUMMARY:Conférence-débat: «Les libertés démocratiques\, académiques e
 t d'expression sont reconnues\, car intouchables: replacer cette thématiq
 ue dans un contexte plus général au début de ce XXIe siècle» avec Ala
 in Bihr · Mardi 18 novembre · 17h30 Université de Lausanne · Géopolis
  · salle 2224 - Geopolis - 18 Nov 14 17:30
DESCRIPTION:Conférence-débat\nLes libertés démocratiques\, académiques
  et d'expression\nsont reconnues\, car intouchables: replacer cette théma
 tique dans un contexte plus général au début de ce XXIe siècle\n\navec
  Alain Bihr\nProfesseur honoraire de sociologie de l'Université de Franch
 e-Comté (Besançon)\, membre d'Alternative Libertaire et co-directeur du 
 Dictionnaire des inégalités (Armand Collin\, 2014) avec Roland Pfefferko
 rn.\n\nMardi 18 novembre · 17h30 · Université de Lausanne · Géopolis 
 · salle 2224\nOrganisé par Cercle la Brèche\, avec le soutien du syndic
 at SSP-Hautes écoles et le site alencontre.org
CATEGORIES:Conférence-débat
LOCATION:Geopolis\, UNIL\, Lausanne\, Suisse
GEO:46.5210895;6.580160599999999
X-APPLE-STRUCTURED-LOCATION;VALUE=URI;X-ADDRESS=UNIL\, Lausanne\, Suisse;X-
 APPLE-RADIUS=100;X-TITLE=Geopolis:geo:46.5210895,6.580160599999999
END:VEVENT
END:VCALENDAR