BEGIN:VCALENDAR
VERSION:2.0
PRODID:-//wp-events-plugin.com//6.4.7.1//EN
BEGIN:VEVENT
UID:41@soleilvert.ch
DTSTART:20140918T161500Z
DTEND:20140918T180000Z
DTSTAMP:20140912T220153Z
URL:https://soleilvert.ch/events/conference-assad-letat-islamique-et-locci
 dent-realites-et-propagandes-avec-noura-al-ameer-de-la-coalition-nationale
 -syrienne-lausanne-18-septembre-unil-ant
SUMMARY:Conférence: «Assad\, l’Etat islamique et l’Occident… Réali
 tés et propagandes» avec Noura al-Ameer\, de la Coalition nationale syri
 enne. Lausanne 18 septembre\, UNIL\, Anthropole\, salle 2024\, à 17h15 - 
 Anthropole\, salle 2024 - 18 Sep 14 17:15
DESCRIPTION:Conférence-débat\n\nAssad\, l’Etat islamique et l’Occiden
 t…\nRéalités et propagandes\nAvec Noura AL-AMEER\,\nvice-présidente d
 e la Coalition nationale syrienne\nLausanne\, UNIL\, jeudi 18 septembre 20
 14\, 17h15\nBâtiment Anthropole\, salle 2024\nRécemment\, l’Etat Islam
 ique (EI ou Daech en arabe) a décapité deux journalistes américains qui
  s’étaient tous deux dévoués pour faire entendre la voix et la souffr
 ance du peuple syrien! Le prétexte invoqué est l’intervention américa
 ine et les frappes aériennes sur des bases ou sur des troupes de Daech en
  Irak.\n\nIl faut rappeler ici que Daech\, dès son apparition – dans la
  foulée de la répression massive engagée par le régime Assad contre la
  population insurgée\, dès mars 2011 –\, s’en est pris aux activiste
 s\, aux médecins et aux journalistes. Ces derniers qui faisaient et font 
 entendre la voix des insurgé·e·s sont considérés et traités comme de
 s ennemis aussi bien par le régime Assad que par Daech.\n\nJamais\, jusqu
 ’à tout récemment\, Daech et le régime mafieux Assad ne se sont attaq
 ués mutuellement! Les barils d’explosifs du régime Assad ont toujours 
 épargné soigneusement les forces et les bases de Daech à Alep\, préfé
 rant cibler les civils avec des dizaines de milliers de morts\, de blessé
 s\, des millions de refugié·e·s à l’intérieur de la Syrie et dans l
 es pays limitrophes. Réfugié·e·s face auxquels l’indifférence de la
  Suisse et de nombreux pays européens ne peut que faire scandale.\n\nLe 
 «parcours» du journaliste James Foley – décapité par Daech le 19 a
 oût – est révélateur des rapports parallèles existant entre le régi
 me Assad et le «foyer syrien» de Daech. En effet\, Foley a été enlevé
  par les milices pro-régime en novembre 2012\, puis détenu par les serv
 ices de renseignement d’Assad à Damas. Donc avant la proclamation de l
 ’Etat islamique au printemps 2013. Foley s’est trouvé par la suite da
 ns les mains de Daech\, au moment où Assad se proposait publiquement comm
 e «partenaire» d’une coalition de lutte contre le terrorisme!\n\nCet 
 «événement» tragique\, très médiatisé contraint à redonner une act
 ualité à l’analyse et à la réflexion – plus que nécessaires – s
 ur la situation dramatique en Syrie\, «victime» d’un quasi-silence mé
 diatique.\n\nIl faut donc interroger le rôle du régime Assad dans la nai
 ssance de Daech. En effet\, le peuple insurgé syrien fait face à deux en
 nemis: le régime Assad et les forces criminelles de l’Etat islamique. A
 ujourd’hui contrer Daech par la force ne peut faire l’économie d’un
 e aide massive aux forces engagées\, depuis le printemps 2011\, dans le c
 ombat pour renverser la dictature qui\, elle\, a créé les conditions pou
 r le développement de ce terrorisme représenté par l’Etat islamique.\
 n\nPour débattre de ces problèmes complexes\, les FemmeS pour la Démocr
 atie ont invité Noura al-Ameer\, vice-présidente de la Coalition nationa
 le syrienne et responsable du dossier des droits de l’Homme. Elle expose
 ra également les défis et les priorités auxquels fait face l’oppositi
 on syrienne.\n\nNoura al-Ameer\, activiste de Homs\, âgée de 26 ans\, a 
 pris part à la révolution dès ses débuts. Elle a été arrêtée par l
 es services de renseignement syriens au printemps 2012. Elle est restée e
 n détention pendant six mois. Suite à sa détention elle a été expuls
 ée de son université alors qu’elle préparait son master en lettres. L
 orsqu’elle a retrouvé la liberté\, elle a dû quitter le pays pour tro
 uver refuge en Turquie tout près de la Syrie. En mai 2013\, elle a rejoi
 nt la Coalition nationale syrienne. Elle a été élue vice-présidente de
  la Coalition en janvier 2014. Elle a accompagné la délégation de l’
 opposition lors de la conférence de Genève II. Récemment\, elle a été
  réélue vice-présidente de la Coalition nationale syrienne.\nOrganisée
  par FemmeS pour la Démocratie\nSoutenue par le Mouvement pour le sociali
 sme (MPS)\, le site www.alencontre.org\,\nZeitoune et solidaritéS\n\n&nbs
 p\;\n \n&nbsp\;
CATEGORIES:Conférence-débat
LOCATION:Anthropole\, salle 2024\, UNIL\, Lausanne\, Suisse
GEO:46.5210895;6.580160599999999
X-APPLE-STRUCTURED-LOCATION;VALUE=URI;X-ADDRESS=UNIL\, Lausanne\, Suisse;X-
 APPLE-RADIUS=100;X-TITLE=Anthropole\, salle 2024:geo:46.5210895,6.58016059
 9999999
END:VEVENT
END:VCALENDAR