BEGIN:VCALENDAR
VERSION:2.0
PRODID:-//wp-events-plugin.com//6.4.7.1//EN
BEGIN:VEVENT
UID:42@soleilvert.ch
DTSTART:20140920T100000Z
DTEND:20140920T110000Z
DTSTAMP:20140919T171257Z
URL:https://soleilvert.ch/events/action-de-solidarite-et-de-soutien-aux-tr
 availleuses-du-nettoyage-du-ministere-des-finances-en-grece-samedi-20-sept
 embre-a-11h-pres-de-la-mission-de-grece-rue-du-leman-geneve
SUMMARY:Action de solidarité et de soutien aux travailleuses du nettoyage 
 du Ministère des finances en Grèce - Samedi 20 septembre\, à 11h\, prè
 s de la mission de Grèce\, rue du Léman\, Genève - Mission de grèce - 
 20 Sep 14 11:00
DESCRIPTION:Action de solidarité et de soutien aux travailleuses\ndu netto
 yage du Ministère des finances en Grèce\nSamedi 20 septembre 2014 · 11h
 \,\nprès de la mission de Grèce\, rue du Léman · Pâquis · Genève \
 nEn date du 17 septembre\, le site A l'Encontre publiait\, avec une introd
 uction\, un appel des 595 nettoyeuses du Ministère des finances de Grèce
  qui ont été licenciées il y a plus de 11 mois. Vous trouverez le lien 
 ici:\nhttps://soleilvert.ch/europe/grece/grece-solidarite-avec-les-nettoye
 uses-grecques.html\nCet appel demandait\, à la fois\, de signer une péti
 tion (ce qui est possible en ouvrant l'article susmentionné) et d'organis
 er des actions de solidarité face au procès qui leur est intenté pour 
 «violence contre la police» et «troubles de l'ordre public»!\n\nLeur l
 icenciement s'inscrit non seulement dans le cadre des plans brutaux d'aust
 érité imposés – avec la complicité du gouvernement grec de Samaras 
 – par la Troïka (FMI\, BCE et UE)\, mais dans la foulée d'une politiqu
 e de plus en plus générale d'externalisation\, avec baisses de salaire\,
  de services tels que le nettoyage et autres services d'entretien. En Grè
 ce\, et ailleurs\, cela accompagne des mesures d'étranglement – au sens
  strict – du système de santé et d'éducation.\n\nLe gouvernement grec
  avec le licenciement brutal des nettoyeuses pensait imposer une décision
  qui serait appliquée dans le silence.\n\nIl s'est lourdement trompé. Le
 s nettoyeuses mènent un combat quotidien – avec un «camp» devant le M
 inistère des finances – et sont devenues une référence pour l'ensembl
 e des salarié·e·s qui cherchent à mettre en échec des choix économiq
 ues et politiques qui conduisent une grande partie de la population au seu
 il de la survie. Ces femmes – souvent âgées de 50 ans et plus\, comme 
 elles tiennent à l'indiquer – doivent se battre contre le gouvernement\
 , la police de choc (MAT)\, qui n'hésite pas à utiliser les moyens les p
 lus brutaux\, et parfois contre la passivité d'appareils syndicaux\, en p
 lace depuis fort longtemps et en décalage avec la situation sociale en Gr
 èce telle qu'elle s'est dégradée depuis 2010. Elles sont un exemple de 
 la force d'une mobilisation sociale et féministe. Et comme elles nous le 
 disaient dans un entretien: «Notre force puise dans l'expérience matéri
 elle difficile que nous avons connue durant des années et dans la compré
 hension que nous avons acquise de notre insertion dans une lutte sociale e
 t féministe qui dépasse les frontières de nos propres revendications d'
 être réintégrées dans nos emplois.»\n\nManifester ce samedi à Genèv
 e est un acte concret de solidarité sociale et féministe\, deux dimensio
 ns ne pouvant être séparées. (Rédaction A l'Encontre)\n\n____\n\nActio
 n appelée par solidaritéS-Groupe féministeS avec le soutien de la March
 e Mondiale des Femmes en Suisse\, du Mouvement pour le socialisme (MPS) et
  du site A l’Encontre
CATEGORIES:Rassemblements
LOCATION:Mission de grèce\, Rue du Léman\, Genève\, Suisse
GEO:46.21168;6.151190000000042
X-APPLE-STRUCTURED-LOCATION;VALUE=URI;X-ADDRESS=Rue du Léman\, Genève\, S
 uisse;X-APPLE-RADIUS=100;X-TITLE=Mission de grèce:geo:46.21168,6.15119000
 0000042
END:VEVENT
END:VCALENDAR